Uber Exif Photo
Photometric Interpretation : RGB
Make : Panasonic
Camera Model Name : DC-S5
Orientation : Horizontal (normal)
Samples Per Pixel : 3
Software : Adobe Photoshop 26.5 (Windows)
Modify Date : 2025:03:29 20:39:00
Artist : JRA
Copyright : JOHN ANGARONI
Exposure Time : 1/400
Exposure Program : Aperture-priority AE
ISO : 100
Sensitivity Type : Standard Output Sensitivity
Standard Output Sensitivity : 100
Date/Time Original : 2025:03:29 15:32:26
Create Date : 2025:03:29 15:32:26
Shutter Speed Value : 1/400
Exposure Compensation : -0.33
Max Aperture Value : 1.0
Metering Mode : Multi-segment
Light Source : Unknown
Flash : Off, Did not fire
Color Space : sRGB
Exif Image Width : 2500
Exif Image Height : 3750
Sensing Method : One-chip color area
Scene Type : Directly photographed
Custom Rendered : Custom
Exposure Mode : Auto
White Balance : Auto
Digital Zoom Ratio : 0
Scene Capture Type : Standard
Gain Control : None
Contrast : High
Saturation : Normal
Sharpness : Soft
Serial Number : WJ3CB001079
By-line : JRA
Copyright Notice : JOHN ANGARONI
Creator Tool : Adobe Photoshop Lightroom Classic 14.2 (Windows)
Preserved File Name : P1002427.JPG
Format : image/jpeg
Date Created : 2025:03:29 15:32:26.752-05:00
Color Mode : RGB
ICC Profile Name : sRGB IEC61966-2.1
Pick : 0
Raw File Name : P1002427.JPG
Version : 17.2
Process Version : 15.4
Incremental Temperature : +2
Incremental Tint : +12
Exposure 2012 : 0.00
Contrast 2012 : 0
Highlights 2012 : 0
Shadows 2012 : 0
Whites 2012 : 0
Blacks 2012 : -14
Texture : 0
Clarity 2012 : +39
Dehaze : 0
Vibrance : +7
Parametric Shadows : 0
Parametric Darks : 0
Parametric Lights : 0
Parametric Highlights : 0
Parametric Shadow Split : 25
Parametric Midtone Split : 50
Parametric Highlight Split : 75
Sharpen Radius : +3.0
Sharpen Detail : 100
Sharpen Edge Masking : 50
Luminance Smoothing : 39
Luminance Noise Reduction Detail : 50
Luminance Noise Reduction Contrast : 0
Color Noise Reduction : 40
Color Noise Reduction Detail : 50
Color Noise Reduction Smoothness : 50
Hue Adjustment Red : +34
Hue Adjustment Orange : -5
Hue Adjustment Yellow : -26
Hue Adjustment Green : +19
Hue Adjustment Aqua : +27
Hue Adjustment Blue : -24
Hue Adjustment Purple : -3
Hue Adjustment Magenta : +95
Saturation Adjustment Red : -3
Saturation Adjustment Orange : -19
Saturation Adjustment Yellow : -29
Saturation Adjustment Green : -29
Saturation Adjustment Aqua : +18
Saturation Adjustment Blue : +14
Saturation Adjustment Purple : -23
Saturation Adjustment Magenta : -3
Luminance Adjustment Red : +10
Luminance Adjustment Orange : +18
Luminance Adjustment Yellow : +14
Luminance Adjustment Green : +24
Luminance Adjustment Aqua : -8
Luminance Adjustment Blue : -10
Luminance Adjustment Purple : -5
Luminance Adjustment Magenta : +18
Split Toning Shadow Hue : 0
Split Toning Shadow Saturation : 0
Split Toning Highlight Hue : 0
Split Toning Highlight Saturation : 0
Split Toning Balance : 0
Color Grade Midtone Hue : 0
Color Grade Midtone Sat : 0
Color Grade Shadow Lum : +3
Color Grade Midtone Lum : 0
Color Grade Highlight Lum : 0
Color Grade Blending : 50
Color Grade Global Hue : 0
Color Grade Global Sat : 0
Color Grade Global Lum : 0
Auto Lateral CA : 0
Lens Profile Enable : 0
Lens Manual Distortion Amount : 0
Vignette Amount : 0
Defringe Purple Amount : 0
Defringe Purple Hue Lo : 30
Defringe Purple Hue Hi : 70
Defringe Green Amount : 0
Defringe Green Hue Lo : 40
Defringe Green Hue Hi : 60
Perspective Upright : Off
Perspective Vertical : 0
Perspective Horizontal : 0
Perspective Rotate : 0.0
Perspective Aspect : 0
Perspective Scale : 100
Perspective X : 0.00
Perspective Y : 0.00
Grain Amount : 0
Post Crop Vignette Amount : 0
Shadow Tint : 0
Red Hue : 0
Red Saturation : 0
Green Hue : 0
Green Saturation : 0
Blue Hue : 0
Blue Saturation : 0
HDR Edit Mode : 0
Curve Refine Saturation : 100
Convert To Grayscale : False
Override Look Vignette : False
Tone Curve Name 2012 : Custom
Camera Profile : Embedded
Has Settings : True
Crop Top : 0
Crop Left : 0
Crop Bottom : 1
Crop Right : 1
Crop Angle : 0
Crop Constrain To Warp : 0
Has Crop : False
Already Applied : True
Creator : JRA
Rights : JOHN ANGARONI
Tone Curve PV2012 : 0, 0, 17, 6, 34, 13, 51, 23, 68, 37, 85, 55, 102, 76, 119, 98, 136, 123, 153, 151, 170, 173, 187, 199, 204, 221, 221, 239, 238, 250, 255, 255
Tone Curve PV2012 Red : 0, 0, 17, 17, 34, 34, 51, 52, 68, 69, 85, 86, 102, 104, 119, 122, 136, 139, 153, 155, 170, 170, 187, 185, 204, 202, 221, 221, 238, 238, 255, 255
Tone Curve PV2012 Green : 0, 0, 17, 17, 34, 35, 51, 52, 68, 69, 85, 87, 102, 104, 119, 121, 136, 138, 153, 155, 170, 171, 187, 187, 204, 204, 221, 221, 238, 238, 255, 255
Tone Curve PV2012 Blue : 0, 0, 17, 16, 34, 33, 51, 50, 68, 67, 85, 84, 102, 102, 119, 120, 136, 138, 153, 155, 170, 170, 187, 185, 204, 201, 221, 219, 238, 240, 255, 255
Point Colors : -1.000000, -1.000000, -1.000000, -1.000000, -1.000000, -1.000000, -1.000000, -1.000000, -1.000000, -1.000000, -1.000000, -1.000000, -1.000000, -1.000000, -1.000000, -1.000000, -1.000000, -1.000000, -1.000000
Profile Description : sRGB IEC61966-2.1
Image Width : 267
Image Height : 400
Bits Per Sample : 8
Color Components : 3
Image Size : 267x400
Megapixels : 0.107
Shutter Speed : 1/400
Create Date : 2025:03:29 15:32:26.752-05:00
Date/Time Original : 2025:03:29 15:32:26.752-05:00
Modify Date : 2025:03:29 20:39:00-04:00